BEGIN:VCALENDAR
VERSION:2.0
PRODID:-//Tukios.com/
BEGIN:VEVENT
UID:9ea1dbb5-d13e-4713-8d60-a587894d8256@www.sorrellsfuneral.com
DTSTAMP:20260421T223820Z
DTSTART:20260423T180000Z
DTEND:20260423T200000Z
SUMMARY:Visitation
DESCRIPTION:
URL:https://www.sorrellsfuneral.com/obituaries/ronald-rouse
LOCATION:First Baptist Church of Slocomb 225 N Dalton St.  Slocomb AL 
	36375
GEO:31.1101637;-85.5942887
END:VEVENT
END:VCALENDAR