BEGIN:VCALENDAR
VERSION:2.0
PRODID:-//Tukios.com/
BEGIN:VEVENT
UID:308375b5-fe46-4ce9-9914-2453463a721a@www.sorrellsfuneral.com
DTSTAMP:20260421T223435Z
DTSTART:20260423T200000Z
DTEND:20260423T210000Z
SUMMARY:Celebration of Life
DESCRIPTION:
URL:https://www.sorrellsfuneral.com/obituaries/ronald-rouse
LOCATION:First Baptist Church of Slocomb 225 N Dalton St.  Slocomb AL 
	36375
GEO:31.1101637;-85.5942887
END:VEVENT
END:VCALENDAR